BEGIN:VCALENDAR
VERSION:2.0
PRODID:-//eventon.com NONSGML v1.0//EN
CALSCALE:GREGORIAN
METHOD:PUBLISH
BEGIN:VEVENT
UID:69e748b5a9739
DTSTAMP:20260421T055149
DTSTART:20230325T190000Z
DTEND:20230325T180000Z
TZID:America/New_York
LOCATION:
SUMMARY:Colin Linden Music
DESCRIPTION:The Mule Spinner in the Cotton Factory hosts Colin Linden for live music Saturday March 25th 7pm-10pm! Tickets: COLIN LINDEN TICKETS\nhttps://hometownhub.ca/events/colin-linden-music/
URL:https://hometownhub.ca/events/colin-linden-music/
END:VEVENT
END:VCALENDAR