BEGIN:VCALENDAR
VERSION:2.0
PRODID:-//eventon.com NONSGML v1.0//EN
CALSCALE:GREGORIAN
METHOD:PUBLISH
BEGIN:VEVENT
UID:69e886c5d1627
DTSTAMP:20260422T042853
DTSTART:20230823T193000Z
DTEND:20230823T173000Z
TZID:America/New_York
LOCATION:
SUMMARY:Adam Ostrosser
DESCRIPTION:The Thirsty Cactus presents Adam Ostrosser for live music Wednesday August 23rd 7:30pm!\nhttps://hometownhub.ca/events/adam-ostrosser/
URL:https://hometownhub.ca/events/adam-ostrosser/
END:VEVENT
END:VCALENDAR