BEGIN:VCALENDAR
VERSION:2.0
PRODID:-//eventon.com NONSGML v1.0//EN
CALSCALE:GREGORIAN
METHOD:PUBLISH
BEGIN:VEVENT
UID:69e88875de776
DTSTAMP:20260422T043605
DTSTART:20241114T113000Z
DTEND:20241114T073000Z
TZID:America/New_York
LOCATION:
SUMMARY:Feel the Music
DESCRIPTION:Brott Music Festival presents Feel the Music concert Thursday November 14th 11:30am FirstOntario Concert Hall!  Brott Music TIckets\,  Rergistration\,  Teacher Info:  FEEL THE MUSIC INFO &nbsp; &#8220;THURS NOV. 14 | 9:45 am &amp; 11:30 AMFirst Ontario Concert Hall (Hamilton Place) The mighty sounds of a live symphony orchestra demonstrate to[..]\nhttps://hometownhub.ca/events/feel-the-music/
URL:https://hometownhub.ca/events/feel-the-music/
END:VEVENT
END:VCALENDAR