BEGIN:VCALENDAR
VERSION:2.0
PRODID:-//eventon.com NONSGML v1.0//EN
CALSCALE:GREGORIAN
METHOD:PUBLISH
BEGIN:VEVENT
UID:69e8898b6a656
DTSTAMP:20260422T044043
DTSTART:20250411T200000Z
DTEND:20250411T180000Z
TZID:America/New_York
LOCATION:
SUMMARY:The Cars & Elvis Costello
DESCRIPTION:The Westdale presents Hamilton Originals music of The Cars &amp; Elvis Costello Friday April 11th 8pm!  Info &amp; Tickets:  THE CARS/ELVIS COSTELLO TICKETS\nhttps://hometownhub.ca/events/the-cars-elvis-costello/
URL:https://hometownhub.ca/events/the-cars-elvis-costello/
END:VEVENT
END:VCALENDAR