BEGIN:VCALENDAR
VERSION:2.0
PRODID:-//eventon.com NONSGML v1.0//EN
CALSCALE:GREGORIAN
METHOD:PUBLISH
BEGIN:VEVENT
UID:69e887471f829
DTSTAMP:20260422T043103
DTSTART:20250524T200000Z
DTEND:20250524T220000Z
TZID:UTC
LOCATION:
SUMMARY:Ryan Connor
DESCRIPTION:Levity Comedy Club presents Ryan Connor Comedy Saturday May 24th 8pm-10pm! RYAN CONNOR TICKETS :  \nhttps://hometownhub.ca/events/ryan-connor/
URL:https://hometownhub.ca/events/ryan-connor/
END:VEVENT
END:VCALENDAR