BEGIN:VCALENDAR
VERSION:2.0
PRODID:-//eventon.com NONSGML v1.0//EN
CALSCALE:GREGORIAN
METHOD:PUBLISH
BEGIN:VEVENT
UID:69e888a4a260d
DTSTAMP:20260422T043652
DTSTART:20250526T200000Z
DTEND:20250526T220000Z
TZID:UTC
LOCATION:
SUMMARY:May Madness Comedy at Hendry's
DESCRIPTION:Ryan Sim presents May Madness comedy show with Anthony Mlekuz and friends Monday May 26th 8pm at Hendry&#8217;s Barbershop! RSVP For free tickets:  MAY MADNESS COMEDY TICKETS\nhttps://hometownhub.ca/events/may-madness-comedy-at-hendrys/
URL:https://hometownhub.ca/events/may-madness-comedy-at-hendrys/
END:VEVENT
END:VCALENDAR