BEGIN:VCALENDAR
VERSION:2.0
PRODID:-//eventon.com NONSGML v1.0//EN
CALSCALE:GREGORIAN
METHOD:PUBLISH
BEGIN:VEVENT
UID:69e7493733896
DTSTAMP:20260421T055359
DTSTART:20250726T130000Z
DTEND:20250726T190000Z
TZID:UTC
LOCATION:
SUMMARY:July Craft Crawl
DESCRIPTION:Head to Ottawa Street North for a Craft Crawl sidewalk showcase every Saturday in July 1pm-7pm!  &#8220;Join us EVERY Saturday in July from 1–7pm for a sidewalk showcase and street stroll of some of Hamilton’s best small biz magic! 🛍️ Crafters\,  makers\,  and small business owners are invited to set[..]\nhttps://hometownhub.ca/events/july-craft-crawl/var/ri-3.l-L1
URL:https://hometownhub.ca/events/july-craft-crawl/var/ri-3.l-L1
END:VEVENT
END:VCALENDAR