BEGIN:VCALENDAR
VERSION:2.0
PRODID:-//eventon.com NONSGML v1.0//EN
CALSCALE:GREGORIAN
METHOD:PUBLISH
BEGIN:VEVENT
UID:69e735bcaafec
DTSTAMP:20260421T043052
DTSTART:20260314T203000Z
DTEND:20260314T233000Z
TZID:UTC
LOCATION:
SUMMARY:The Weight
DESCRIPTION:[vc_row][vc_column][vc_column_text css=&#8221;&#8221;]Coach &amp; Lantern presents The Weight for live music Saturday March 14th 8:30pm.[/vc_column_text][/vc_column][/vc_row]\nhttps://hometownhub.ca/events/the-weight-band/
URL:https://hometownhub.ca/events/the-weight-band/
END:VEVENT
END:VCALENDAR