BEGIN:VCALENDAR
VERSION:2.0
PRODID:-//eventon.com NONSGML v1.0//EN
CALSCALE:GREGORIAN
METHOD:PUBLISH
BEGIN:VEVENT
UID:69e4cab8c4c37
DTSTAMP:20260419T082944
DTSTART:20260321T130000Z
DTEND:20260321T150000Z
TZID:UTC
LOCATION:
SUMMARY:The Coachmen
DESCRIPTION:The Blues Studio presents The Coachmen with special guest Feddy on Guitar for live music Saturday March 21st 1pm-3pm at the Coach and Lantern! Tickets:  THE COACHMEN TICKETS\nhttps://hometownhub.ca/events/the-coachmen-11/
URL:https://hometownhub.ca/events/the-coachmen-11/
END:VEVENT
END:VCALENDAR