BEGIN:VCALENDAR
VERSION:2.0
PRODID:-//eventon.com NONSGML v1.0//EN
CALSCALE:GREGORIAN
METHOD:PUBLISH
BEGIN:VEVENT
UID:69e897f1f124f
DTSTAMP:20260422T054209
DTSTART:20260314T090000Z
DTEND:20260314T170000Z
TZID:UTC
LOCATION:
SUMMARY:Hamilton Spring Discovery Days
DESCRIPTION:Head to the Gage Park Greenhouse for Spring Discovery Days 9am-5pm daily March 14th &#8211; March 22nd. Free Parking and entry. Tours every day plus different programs each day!  DISCOVERY DAYS MORE INFO\nhttps://hometownhub.ca/events/hamilton-spring-discovery-days/
URL:https://hometownhub.ca/events/hamilton-spring-discovery-days/
END:VEVENT
END:VCALENDAR