BEGIN:VCALENDAR
VERSION:2.0
PRODID:-//eventon.com NONSGML v1.0//EN
CALSCALE:GREGORIAN
METHOD:PUBLISH
BEGIN:VEVENT
UID:69e747e85b7b2
DTSTAMP:20260421T054824
DTSTART:20260314T120000Z
DTEND:20260314T150000Z
TZID:UTC
LOCATION:
SUMMARY:Jon Harvey Music
DESCRIPTION:[vc_row][vc_column][vc_column_text css=&#8221;&#8221;]Main Stage Rehearsal Studios presents Jon Harvey for a masterclass Saturday March 14th 12pm!  Free Tickets:  JON HARVEY TICKETS &#8220;Join JUNO Award–winning frontman Jon Harvey (Monster Truck / The Wild High) for an intimate Artist Masterclass at Main Stage Rehearsal Studios — packed with real-world touring insight\,  songwriting tips\,  and[..]\nhttps://hometownhub.ca/events/jon-harvey-music/
URL:https://hometownhub.ca/events/jon-harvey-music/
END:VEVENT
END:VCALENDAR